Workbook

Sheet سهام
A1: صندوق سرمایه‌گذاری سهام بزرگ کاردان
A2: صورت وضعیت پرتفوی
A3: برای ماه منتهی به 1405/06/31
A4: -1 | B4: سرمایه گذاری ها
A5: -1-1 | C5: سرمایه گذاری در سهام و حق تقدم سهام
F6: 1405/05/31 | L6: تغییرات طی دوره | T6: 1405/06/31
L7: خرید طی دوره | P7: فروش طی دوره
A8: نام شرکت | E8: تعداد | H8: بهای تمام شده | J8: خالص ارزش فروش | L8: تعداد | N8: بهای تمام شده | P8: تعداد | R8: مبلغ فروش | T8: تعداد | V8: قیمت بازار هر سهم | X8: بهای تمام شده | Z8: خالص ارزش فروش | AB8: درصد به کل دارایی ها
A9: احیا استیل فولاد بافت | E9: 10660000 | H9: 37194883933 | J9: 44108584494 | L9: 0 | N9: 0 | P9: 0 | R9: 0 | T9: 10660000 | V9: 4700 | X9: 37194883933 | Z9: 49714711540 | AB9: =Z9/2662668999206*100 -> 1.8671007
A10: بانک‌اقتصادنوین‌ | E10: 22009793 | H10: 50173215161 | J10: 7.4254835e+10 | L10: 5100000 | N10: 21119111730 | P10: 0 | R10: 0 | T10: 27109793 | V10: 3690 | X10: 71292326891 | Z10: 9.9261865e+10 | AB10: =Z10/2662668999206*100 -> 3.7279085
A11: پالایش نفت اصفهان | E11: 12030719 | H11: 44236838642 | J11: 1.3704504e+11 | L11: 1560000 | N11: 20021194634 | P11: 0 | R11: 0 | T11: 13590719 | V11: 12400 | X11: 64258033276 | Z11: 1.6722222e+11 | AB11: =Z11/2662668999206*100 -> 6.2802481
A12: پالایش نفت بندرعباس | E12: 8818750 | H12: 40624191495 | J12: 1.0658208e+11 | L12: 0 | N12: 0 | P12: 0 | R12: 0 | T12: 8818750 | V12: 14720 | X12: 40624191495 | Z12: 128808553240 | AB12: =Z12/2662668999206*100 -> 4.8375729
A13: پاکدیس | E13: 2752617 | H13: 28763438828 | J13: 3.4332935e+10 | L13: 0 | N13: 0 | P13: 0 | R13: 0 | T13: 2752617 | V13: 11650 | X13: 28763438828 | Z13: 3.1820103e+10 | AB13: =Z13/2662668999206*100 -> 1.1950454
A14: پتروشیمی پردیس | E14: 8000335 | H14: 29352488810 | J14: 8.4068635e+10 | L14: 0 | N14: 0 | P14: 0 | R14: 0 | T14: 8000335 | V14: 13460 | X14: 29352488810 | Z14: 1.0685211e+11 | AB14: =Z14/2662668999206*100 -> 4.01297
A15: پتروشیمی نوری | E15: 1399782 | H15: 34677091474 | J15: 4.7724724e+10 | L15: 510000 | N15: 19932759654 | P15: 0 | R15: 0 | T15: 1909782 | V15: 51290 | X15: 54609851128 | Z15: 9.7195544e+10 | AB15: =Z15/2662668999206*100 -> 3.6503052
A16: پست بانک ایران | E16: 11893480 | H16: 44095938579 | J16: 1.1530108e+11 | L16: 0 | N16: 0 | P16: 0 | R16: 0 | T16: 11893480 | V16: 9870 | X16: 44095938579 | Z16: 1.1648123e+11 | AB16: =Z16/2662668999206*100 -> 4.3746043
A17: تایدواترخاورمیانه | E17: 2709250 | H17: 7021193941 | J17: 1.9947242e+10 | L17: 0 | N17: 0 | P17: 0 | R17: 0 | T17: 2709250 | V17: 8360 | X17: 7021193941 | Z17: 2.2474251e+10 | AB17: =Z17/2662668999206*100 -> 0.84404974
A18: داروسازی‌ اکسیر | E18: 1666007 | H18: 32805719273 | J18: 4.5477572e+10 | L18: 0 | N18: 0 | P18: 0 | R18: 0 | T18: 1666007 | V18: 25220 | X18: 32805719273 | Z18: 4.1691907e+10 | AB18: =Z18/2662668999206*100 -> 1.5657939
A19: داروسازی‌ فارابی‌ | E19: 7675839 | H19: 34578521514 | J19: 1.3047073e+11 | L19: 0 | N19: 0 | P19: -2901000 | R19: 49597852147 | T19: 4774839 | V19: 17230 | X19: 21509944788 | Z19: 8.1634525e+10 | AB19: =Z19/2662668999206*100 -> 3.0658908
A20: ذغال‌سنگ‌ نگین‌ ط‌بس‌ | E20: 3250000 | H20: 39329485121 | J20: 46921967625 | L20: 0 | N20: 0 | P20: 0 | R20: 0 | T20: 3250000 | V20: 18470 | X20: 39329485121 | Z20: 59563487425 | AB20: =Z20/2662668999206*100 -> 2.2369843
... A41: کشت و صنعت هلال | E41: 125000 | H41: 4912955600 | J41: 6062769700 | L41: 0 | N41: 0 | P41: 0 | R41: 0 | T41: 125000 | V41: 51140 | X41: 4912955600 | Z41: 6343085975 | AB41: =Z41/2662668999206*100 -> 0.23822285
A42: کولان سل | E42: 219000 | H42: 5291854763 | J42: =5975946075-10 -> 5975946065 | L42: 0 | N42: 0 | P42: 0 | R42: 0 | T42: 219000 | V42: 30070 | X42: 5291854763 | Z42: 6.5344254e+09 | AB42: =Z42/2662668999206*100 -> 0.24540885
A43: غلتک سازان سپاهان | E43: 0 | H43: 0 | J43: 0 | L43: 2928000 | N43: 40093876999 | P43: 0 | R43: 0 | T43: 2928000 | V43: 13650 | X43: 40093876999 | Z43: 39658253544 | AB43: =Z43/2662668999206*100 -> 1.4894173
A44: صنایع دامپروری و لبنی رضوی | E44: 0 | H44: 0 | J44: 0 | L44: 3910000 | N44: 37635245184 | P44: 0 | R44: 0 | T44: 3910000 | V44: 11380 | X44: 37635245184 | Z44: 44151847466 | AB44: =Z44/2662668999206*100 -> 1.6581801
A45: تولید انرژی برق شمس پاسارگاد | E45: 0 | H45: 0 | J45: 0 | L45: 3450000 | N45: 40274704919 | P45: 0 | R45: 0 | T45: 3450000 | V45: 11600 | X45: 40274704919 | Z45: =39710645400-10 -> 39710645390 | AB45: =Z45/2662668999206*100 -> 1.491385
A46: جمع | H46: 1100424310706 | J46: =SUM(J9:J45) -> 2.0813686e+12 | N46: 218027481626 | R46: 89830556131 | X46: 1280093362438 | Z46: =SUM(Z9:Z45) -> 2.502614e+12 | AB46: =SUM(AB9:AB45) -> 93.988926

Sheet سپرده
A1: صندوق سرمایه‌گذاری سهام بزرگ کاردان
A2: صورت وضعیت پرتفوی
A3: برای ماه منتهی به 1405/06/31
A5: -4-1 | B5: سرمایه‌گذاری در سپرده‌ بانکی
D6: 1405/05/31 | F6: تغییرات طی دوره | J6: 1405/06/31
A8: سپرده های بانکی | D8: مبلغ | F8: افزایش | H8: کاهش | J8: مبلغ | L8: درصد به کل دارایی ها
A9: بانک تجارت | D9: 25469287668 | F9: 294000350220 | H9: 265450948920 | J9: =D9+F9-H9 -> 54018688968 | L9: =(J9/2662668999206) -> 0.020287422
A10: بانک اقتصاد نوین | D10: 3004414045 | F10: 157886784607 | H10: 160513623480 | J10: 377575172 | L10: =J10/2662668999206 -> 0.00014180327
A11: بانک ملت | D11: 87626325 | F11: 372043 | H11: 0 | J11: 87998368 | L11: =J11/2662668999206 -> 3.3048932e-05
A12: جمع | D12: 28561328038 | F12: 451887506870 | H12: 425964572400 | J12: =SUM(J9:J11) -> 54484262508 | L12: =SUM(L9:L11) -> 0.020462274

Sheet درآمد
A1: صندوق سرمایه‌گذاری سهام بزرگ کاردان
A2: صورت وضعیت درآمدها
A3: برای ماه منتهی به 1405/06/31
A5: -2 | B5: درآمد حاصل از سرمایه گذاری ها
A7: شرح | D7: یادداشت | F7: مبلغ | H7: درصد از کل درآمدها | J7: درصد از کل دارایی ها
A8: درآمد حاصل از سرمایه گذاری در سهام و حق تقدم سهام | D8: 1-2 | F8: ='درآمد سرمایه گذاری در سهام'!J61 -> 294588521532 | H8: =F8/$F$13*100 -> 99.9452 | J8: =F8/2662668999206*100 -> 11.063655
A9: درآمد حاصل از سرمایه گذاری در واحدهای صندوق های سرمایه گذاری | D9: 2-2 | F9: 0 | H9: =F9/$F$13*100 -> 0 | J9: =F9/2662668999206*100 -> 0
A10: درآمد حاصل از سرمایه گذاری در اوراق بهادار با درآمد ثابت | D10: 3-2 | F10: 0 | H10: =F10/$F$13*100 -> 0 | J10: =F10/2662668999206*100 -> 0
A11: درآمد حاصل از سرمایه گذاری در سپرده بانکی و گواهی سپرده | D11: 4-2 | F11: ='سود سپرده بانکی'!G10 -> 6864010 | H11: =F11/$F$13*100 -> 0.0023287562 | J11: =F11/2662668999206*100 -> 0.00025778683
A12: سایر درآمدها | D12: 5-2 | F12: ='سایر درآمدها'!D11 -> 154658053 | H12: =F12/$F$13*100 -> 0.052470918 | J12: =F12/2662668999206*100 -> 0.0058083845
A13: جمع | F13: =SUM(F8:F12) -> 294750043595 | H13: =SUM(H8:H12) -> 100 | J13: =SUM(J8:J12) -> 11.069722

Sheet درآمد سرمایه گذاری در سهام
A1: صندوق سرمایه‌گذاری سهام بزرگ کاردان
A2: صورت وضعیت درآمدها
A3: برای ماه منتهی به 1405/06/31
A5: -1-2 | B5: درآمد حاصل از سرمایه­گذاری در سهام و حق تقدم سهام
D6: طی ماه | N6: از ابتدای سال مالی
J7: جمع | U7: جمع
A8: سهام | D8: درآمد سود سهام | F8: درآمد تغییر ارزش | H8: درآمد فروش | J8: مبلغ | L8: درصد از کل درآمدها | N8: درآمد سود سهام | P8: درآمد تغییر ارزش | S8: درآمد فروش | U8: مبلغ | W8: درصد از کل درآمدها
A9: داروسازی‌ فارابی‌ | D9: 0 | F9: -27707458944 | H9: 28469109666 | J9: =D9+F9+H9 -> 761650722 | L9: =J9/درآمد!$F$13*100 -> 0.25840564 | N9: 6856746180 | P9: 46858122700 | S9: 28469109666 | U9: =N9+P9+S9 -> 82183978546 | W9: =U9/1133882618576*100 -> 7.2480147
A10: ملی‌ صنایع‌ مس‌ ایران‌ | D10: 1540064700 | F10: 49990520944 | H10: 12391887333 | J10: =D10+F10+H10 -> 63922472977 | L10: =J10/درآمد!$F$13*100 -> 21.687011 | N10: 4146328350 | P10: 184701095455 | S10: 36849530206 | U10: =N10+P10+S10 -> 225696954011 | W10: =U10/1133882618576*100 -> 19.90479
A11: فجر انرژی خلیج فارس | D11: 0 | F11: 0 | H11: 13061350188 | J11: =D11+F11+H11 -> 13061350188 | L11: =J11/درآمد!$F$13*100 -> 4.431331 | N11: 3102465390 | P11: 0 | S11: -7683851931 | U11: =N11+P11+S11 -> -4581386541 | W11: =U11/1133882618576*100 -> -0.40404416
A12: سرمایه گذاری گروه توسعه ملی | D12: 0 | F12: 0 | H12: 0 | J12: =D12+F12+H12 -> 0 | L12: =J12/درآمد!$F$13*100 -> 0 | N12: 0 | P12: 0 | S12: -2910143311 | U12: =N12+P12+S12 -> -2910143311 | W12: =U12/1133882618576*100 -> -0.25665296
A13: کشت وصنعت و دامپروری پگاه فارس | D13: 0 | F13: 0 | H13: 0 | J13: =D13+F13+H13 -> 0 | L13: =J13/درآمد!$F$13*100 -> 0 | N13: 360000000 | P13: 0 | S13: 314351168 | U13: =N13+P13+S13 -> 674351168 | W13: =U13/1133882618576*100 -> 0.059472749
A14: شیشه‌ همدان‌ | D14: 0 | F14: 0 | H14: 0 | J14: =D14+F14+H14 -> 0 | L14: =J14/درآمد!$F$13*100 -> 0 | N14: 0 | P14: 0 | S14: 10309894436 | U14: =N14+P14+S14 -> 10309894436 | W14: =U14/1133882618576*100 -> 0.90925588
A15: ح . سنگ آهن گهرزمین | D15: 0 | F15: 0 | H15: 0 | J15: =D15+F15+H15 -> 0 | L15: =J15/درآمد!$F$13*100 -> 0 | N15: 0 | P15: 0 | S15: 0 | U15: =N15+P15+S15 -> 0 | W15: =U15/1133882618576*100 -> 0
A16: پدیده شیمی قرن | D16: 0 | F16: 0 | H16: 0 | J16: =D16+F16+H16 -> 0 | L16: =J16/درآمد!$F$13*100 -> 0 | N16: 545516304 | P16: 0 | S16: 1848677886 | U16: =N16+P16+S16 -> 2394194190 | W16: =U16/1133882618576*100 -> 0.21115009
A17: کاشی‌ الوند | D17: 0 | F17: 2971257892 | H17: 0 | J17: =D17+F17+H17 -> 2971257892 | L17: =J17/درآمد!$F$13*100 -> 1.0080602 | N17: 2097232416 | P17: 16385249207 | S17: -40447797 | U17: =N17+P17+S17 -> 18442033826 | W17: =U17/1133882618576*100 -> 1.62645
A18: پالایش نفت اصفهان | D18: 0 | F18: 10155980065 | H18: 0 | J18: =D18+F18+H18 -> 10155980065 | L18: =J18/درآمد!$F$13*100 -> 3.4456246 | N18: 8236732060 | P18: 79610724146 | S18: 1365739331 | U18: =N18+P18+S18 -> 89213195537 | W18: =U18/1133882618576*100 -> 7.8679392
A19: زرین ذرت شاهرود | D19: 0 | F19: 2481915338 | H19: 0 | J19: =D19+F19+H19 -> 2481915338 | L19: =J19/درآمد!$F$13*100 -> 0.8420407 | N19: 0 | P19: 6397394751 | S19: 2214827987 | U19: =N19+P19+S19 -> 8612222738 | W19: =U19/1133882618576*100 -> 0.75953389
A20: معدنی‌ املاح‌ ایران‌ | D20: 0 | F20: 5831838702 | H20: 0 | J20: =D20+F20+H20 -> 5831838702 | L20: =J20/درآمد!$F$13*100 -> 1.9785709 | N20: 1358548718 | P20: 22367925819 | S20: 125104276 | U20: =N20+P20+S20 -> 23851578813 | W20: =U20/1133882618576*100 -> 2.1035316
... A60: پتروشیمی پردیس | D60: 0 | F60: 22783473218 | H60: 0 | J60: =D60+F60+H60 -> 22783473218 | L60: =J60/درآمد!$F$13*100 -> 7.7297608 | N60: 0 | P60: 26310524845 | S60: 0 | U60: =N60+P60+S60 -> 26310524845 | W60: =U60/1133882618576*100 -> 2.3203923
A61: جمع | D61: =SUM(D9:D60) -> 1540064700 | F61: =SUM(F9:F60) -> 239126109645 | H61: =SUM(H9:H60) -> 53922347187 | J61: =SUM(J9:J60) -> 294588521532 | L61: =SUM(L9:L60) -> 99.9452 | N61: =SUM(N9:N60) -> 121264485982 | Q61: =SUM(P9:Q60) -> 888752679360 | S61: 122857731998 | U61: =SUM(U9:U60) -> 1132874897340 | W61: =SUM(W9:W60) -> 99.911126

Sheet درآمد سپرده بانکی
A1: صندوق سرمایه‌گذاری سهام بزرگ کاردان
A2: صورت وضعیت درآمدها
A3: برای ماه منتهی به 1405/06/31
A5: -4-2 | B5: درآمد حاصل از سرمایه­گذاری در سپرده بانکی و گواهی سپرده
D6: طی ماه | H6: از ابتدای سال مالی
A7: نام سپرده بانکی | D7: سود سپرده بانکی و گواهی سپرده | F7: درصد سود به میانگین سپرده | H7: سود سپرده بانکی و گواهی سپرده | J7: درصد سود به میانگین سپرده
A8: بانک تجارت | D8: 6199101 | F8: =D8/D10*100 -> 90.313111 | H8: 47382038 | J8: =H8/H10*100 -> 99.187734
A9: بانک ملت | D9: 664909 | F9: =D9/D10*100 -> 9.6868886 | H9: 388020 | J9: =H9/H10*100 -> 0.81226613
A10: جمع | D10: =SUM(D8:D9) -> 6864010 | F10: =SUM(F8:F9) -> 100 | H10: =SUM(H8:H9) -> 47770058 | J10: =SUM(J8:J9) -> 100

Sheet سایر درآمدها
A1: صندوق سرمایه‌گذاری سهام بزرگ کاردان
A2: صورت وضعیت درآمدها
A3: برای ماه منتهی به 1405/06/31
A5: -5-2 | B5: سایر درآمدها
D6: طی ماه | F6: 1405/06/31
A7: سایر درآمدها | D7: مبلغ | F7: مبلغ
A8: سایر درآمدها | D8: -226 | F8: 272849450
A9: معین برای سایر درآمدهای تنزیل سود بانک | D9: 0 | F9: 1621402
A10: تعدیل کارمزد کارگزار | D10: 154658279 | F10: 685480326
A11: جمع | D11: 154658053 | F11: 959951178

Sheet درآمد سود سهام
A1: صندوق سرمایه‌گذاری سهام بزرگ کاردان
A2: صورت وضعیت درآمدها
A3: برای ماه منتهی به 1405/06/31
A5: درآمد سود سهام
A6: نام سهام | C6: اطلاعات مجمع | I6: طی ماه | O6: از ابتدای سال مالی
C7: تاریخ تشکیل مجمع | E7: تعداد سهام متعلقه در زمان مجمع | G7: سود متعلق به هر سهم | I7: جمع درآمد سود سهام | K7: هزینه تنزیل | M7: خالص درآمد سود سهام | O7: جمع درآمد سود سهام | Q7: هزینه تنزیل | S7: خالص درآمد سود سهام
A8: نفت‌ بهران‌ | C8: 1405/05/05 | E8: 2004728 | G8: 3000 | I8: 0 | K8: 0 | M8: 0 | O8: 6014184000 | Q8: 0 | S8: 6014184000
A9: تایدواترخاورمیانه | C9: 1405/04/29 | E9: 2709250 | G9: 850 | I9: 0 | K9: 0 | M9: 0 | O9: 2302862500 | Q9: 0 | S9: 2302862500
A10: سرمایه‌گذاری‌ سپه‌ | C10: 1404/12/03 | E10: 7370823 | G10: 1650 | I10: 0 | K10: 0 | M10: 0 | O10: 12161857950 | Q10: 0 | S10: 12161857950
A11: بانک‌اقتصادنوین‌ | C11: 1405/04/30 | E11: 10043355 | G11: 126 | I11: 0 | K11: 0 | M11: 0 | O11: 1265462730 | Q11: 0 | S11: 1265462730
A12: سرمایه‌گذاری‌صندوق‌بازنشستگی‌ | C12: 1405/04/30 | E12: 2236796 | G12: 1840 | I12: 0 | K12: 0 | M12: 0 | O12: 4115704640 | Q12: 0 | S12: 4115704640
A13: سرمایه‌گذاری‌غدیر(هلدینگ‌ | C13: 1404/12/10 | E13: 2646231 | G13: 1500 | I13: 0 | K13: 0 | M13: 0 | O13: 3969346500 | Q13: 0 | S13: 3969346500
A14: ملی‌ صنایع‌ مس‌ ایران‌ | C14: 1405/04/31 | E14: 5791697 | G14: 450 | I14: 1540064700 | K14: 0 | M14: =I14-K14 -> 1540064700 | O14: =2606263650+I14 -> 4146328350 | Q14: 0 | S14: =O14-Q14 -> 4146328350
A15: گروه‌بهمن‌ | C15: 1405/04/31 | E15: 15571808 | G15: 250 | I15: 0 | K15: 0 | M15: 0 | O15: 3892952000 | Q15: 0 | S15: 3892952000
A16: داروسازی‌ فارابی‌ | C16: 1405/04/30 | E16: 7675839 | G16: 930 | I16: 0 | K16: 0 | M16: 0 | O16: 7138530270 | Q16: 281784090 | S16: 6856746180
A17: داروسازی‌ اکسیر | C17: 1405/04/07 | E17: 666007 | G17: 940 | I17: 0 | K17: 0 | M17: 0 | O17: 626046580 | Q17: 13016394 | S17: 613030186
A18: نیروکلر | C18: 1404/11/21 | E18: 2174134 | G18: 1240 | I18: 0 | K18: 0 | M18: 0 | O18: 2695926160 | Q18: 0 | S18: 2695926160
A19: پالایش نفت اصفهان | C19: 1405/04/30 | E19: 11130719 | G19: 740 | I19: 0 | K19: 0 | M19: 0 | O19: 8236732060 | Q19: 0 | S19: 8236732060
A20: فولاد مبارکه اصفهان | C20: 1405/05/11 | E20: 34413446 | G20: 55 | I20: 0 | K20: 0 | M20: 0 | O20: 1892739530 | Q20: 0 | S20: 1892739530
A21: سیمان‌ صوفیان‌ | C21: 1405/03/19 | E21: 446091 | G21: 27400 | I21: 0 | K21: 0 | M21: 0 | O21: 12222893400 | Q21: 0 | S21: 12222893400
A22: س. صنایع‌شیمیایی‌ایران | C22: 1405/02/30 | E22: 3250000 | G22: 350 | I22: 0 | K22: 0 | M22: 0 | O22: 1137500000 | Q22: 0 | S22: 1137500000
A23: ذغال‌سنگ‌ نگین‌ ط‌بس‌ | C23: 1405/04/29 | E23: 2500000 | G23: 800 | I23: 0 | K23: 0 | M23: 0 | O23: 2000000000 | Q23: 218425869 | S23: 1781574131
A24: معدنی‌ املاح‌ ایران‌ | C24: 1405/03/24 | E24: 722000 | G24: 1910 | I24: 0 | K24: 0 | M24: 0 | O24: 1379020000 | Q24: 20471282 | S24: 1358548718
A25: کاشی‌ الوند | C25: 1405/04/31 | E25: 6238343 | G25: 350 | I25: 0 | K25: 0 | M25: 0 | O25: 2183420050 | Q25: 86187634 | S25: 2097232416
A26: پست بانک ایران | C26: 1405/04/29 | E26: 11893480 | G26: 1110 | I26: 0 | K26: 0 | M26: 0 | O26: 13201762800 | Q26: 0 | S26: 13201762800
... A31: پاکدیس | C31: 1405/04/10 | E31: 300000 | G31: 5800 | I31: 0 | K31: 0 | M31: 0 | O31: 1740000000 | Q31: 171851852 | S31: 1568148148
A32: سنگ آهن گهرزمین | C32: 1405/02/14 | E32: 1109723 | G32: 740 | I32: 0 | K32: 0 | M32: 0 | O32: =821195020+996170 -> 822191190 | Q32: 0 | S32: =O32-Q32 -> 822191190
A33: کشت و دامداری فکا | C33: 1405/04/24 | E33: 5950000 | G33: 650 | I33: 0 | K33: 0 | M33: 0 | O33: 3867500000 | Q33: 128062914 | S33: 3739437086
A34: پتروشیمی نوری | C34: 1405/05/18 | E34: 874864 | G34: 3850 | I34: 0 | K34: 0 | M34: 0 | O34: 3368226400 | Q34: 0 | S34: 3368226400
A35: پدیده شیمی قرن | C35: 1405/04/07 | E35: 500000 | G35: 1100 | I35: 0 | K35: 0 | M35: 0 | O35: 550000000 | Q35: 4483696 | S35: 545516304
A36: کشت و صنعت هلال | C36: 1405/04/21 | E36: 125000 | G36: 2050 | I36: 0 | K36: 0 | M36: 0 | O36: 256250000 | Q36: 6833333 | S36: 249416667
A37: کشت وصنعت و دامپروری پگاه فارس | C37: 1405/01/30 | E37: 360000 | G37: 1000 | I37: 0 | K37: 0 | M37: 0 | O37: 360000000 | Q37: 0 | S37: 360000000
A38: کولان سل | C38: 1405/04/10 | E38: 219000 | G38: 1177 | I38: 0 | K38: 0 | M38: 0 | O38: 257763000 | Q38: 0 | S38: 257763000
A39: رهیاب پیام گستران | C39: 1405/04/31 | E39: 585000 | G39: 414 | I39: 0 | K39: 0 | M39: 0 | O39: 242190000 | Q39: 8483853 | S39: 233706147
A40: جمع | I40: =SUM(I8:I39) -> 1540064700 | K40: 0 | M40: =SUM(M8:M39) -> 1540064700 | O40: =SUM(O8:O39) -> 122710011800 | Q40: =SUM(Q8:Q39) -> 1445525818 | S40: =SUM(S8:S39) -> 121264485982

Sheet سود سپرده بانکی
A1: صندوق سرمایه‌گذاری سهام بزرگ کاردان
A2: صورت وضعیت درآمدها
A3: برای ماه منتهی به 1405/06/31
A5: سود سپرده بانکی
A6: شرح | C6: طی ماه | I6: از ابتدای سال مالی
C7: درآمد سود | E7: هزینه تنزیل | G7: خالص درآمد | I7: درآمد سود | K7: هزینه تنزیل | M7: خالص درآمد
A8: بانک تجارت | C8: 6199101 | E8: 0 | G8: 6199101 | I8: 47382038 | K8: 0 | M8: 47382038
A9: بانک ملت | C9: =292866+372043 -> 664909 | E9: 0 | G9: =C9-E9 -> 664909 | I9: 388020 | K9: 0 | M9: 388020
A10: جمع | C10: =SUM(C8:C9) -> 6864010 | E10: 0 | G10: =SUM(G8:G9) -> 6864010 | I10: =SUM(I8:I9) -> 47770058 | K10: =SUM(K8:K9) -> 0 | M10: =SUM(M8:M9) -> 47770058

Sheet درآمد ناشی از فروش
A1: صندوق سرمایه‌گذاری سهام بزرگ کاردان
A2: صورت وضعیت درآمدها
A3: برای ماه منتهی به 1405/06/31
A5: سود(زیان) حاصل از فروش اوراق بهادار
A6: شرح | C6: طی ماه | K6: از ابتدای سال مالی
C7: تعداد | E7: خالص بهای فروش | G7: ارزش دفتری | I7: سود و زیان ناشی از فروش | K7: تعداد | M7: خالص بهای فروش | O7: ارزش دفتری | Q7: سود و زیان ناشی از فروش
A8: داروسازی‌ فارابی‌ | C8: 2901000 | E8: 49597852147 | G8: 21128742481 | I8: 28469109666 | K8: 2901000 | M8: 49597852147 | O8: 21128742481 | Q8: 28469109666
A9: ملی‌ صنایع‌ مس‌ ایران‌ | C9: 910000 | E9: 20009720002 | G9: 7617832669 | I9: 12391887333 | K9: 4267822 | M9: 83017052906 | O9: 46167522700 | Q9: 36849530206
A10: فجر انرژی خلیج فارس | C10: 1882479 | E10: 20222983982 | G10: =27906835913-20745202119 -> 7161633794 | I10: =E10-G10 -> 13061350188 | K10: 1882479 | M10: 20222983982 | O10: 27906835913 | Q10: -7683851931
A11: سرمایه گذاری گروه توسعه ملی | C11: 0 | E11: 0 | G11: 0 | I11: 0 | K11: 4670431 | M11: 37964634662 | O11: 40874777973 | Q11: -2910143311
A12: کشت وصنعت و دامپروری پگاه فارس | C12: 0 | E12: 0 | G12: 0 | I12: 0 | K12: 360000 | M12: 4858153952 | O12: 4543802784 | Q12: 314351168
A13: شیشه‌ همدان‌ | C13: 0 | E13: 0 | G13: 0 | I13: 0 | K13: 14424672 | M13: 66985632624 | O13: 56675738188 | Q13: 10309894436
A14: ح . سنگ آهن گهرزمین | C14: 0 | E14: 0 | G14: 0 | I14: 0 | K14: 768552 | M14: 3620648472 | O14: 3620648472 | Q14: 0
A15: پدیده شیمی قرن | C15: 0 | E15: 0 | G15: 0 | I15: 0 | K15: 500000 | M15: 9977274887 | O15: 8128597001 | Q15: 1848677886
A16: کاشی‌ الوند | C16: 0 | E16: 0 | G16: 0 | I16: 0 | K16: 315742 | M16: 1248160465 | O16: 1288608262 | Q16: -40447797
A17: پالایش نفت اصفهان | C17: 0 | E17: 0 | G17: 0 | I17: 0 | K17: 5012786 | M17: 32304250496 | O17: 30938511165 | Q17: 1365739331
A18: زرین ذرت شاهرود | C18: 0 | E18: 0 | G18: 0 | I18: 0 | K18: 435000 | M18: 9672995381 | O18: 7458167394 | Q18: 2214827987
A19: معدنی‌ املاح‌ ایران‌ | C19: 0 | E19: 0 | G19: 0 | I19: 0 | K19: 1400000 | M19: 27089049239 | O19: 26963944963 | Q19: 125104276
A20: کارخانجات تولیدی نیروترانسفو | C20: 0 | E20: 0 | G20: 0 | I20: 0 | K20: 1500000 | M20: 18205063424 | O20: 12182124600 | Q20: 6022938824
A21: کیمیا کالای رازی | C21: 0 | E21: 0 | G21: 0 | I21: 0 | K21: 535000 | M21: 10781857096 | O21: 7883337082 | Q21: 2898520014
A22: مدیریت نیروگاهی ایرانیان مپنا | C22: 0 | E22: 0 | G22: 0 | I22: 0 | K22: 680073 | M22: 12470600390 | O22: 13104927413 | Q22: -634327023
... A36: شرکت صنایع غذایی مینو شرق | C36: 0 | E36: 0 | G36: 0 | I36: 0 | K36: 8500000 | M36: 67558703220 | O36: 30400873431 | Q36: 37157829789
A37: جمع | E37: 89830556131 | G37: =SUM(G8:G36) -> 35908208944 | I37: =SUM(I8:I36) -> 53922347187 | M37: 646861758443 | O37: 524004026445 | Q37: 122857731998

Sheet درآمد ناشی از تغییر قیمت اوراق
A1: صندوق سرمایه‌گذاری سهام بزرگ کاردان
A2: صورت وضعیت درآمدها
A3: برای ماه منتهی به 1405/06/31
A5: درآمد ناشی از تغییر قیمت اوراق بهادار
A6: شرح | C6: طی ماه | K6: از ابتدای سال مالی
C7: تعداد | E7: خالص ارزش فروش | G7: ارزش دفتری | I7: سود و زیان ناشی از تغییر قیمت | K7: تعداد | M7: خالص ارزش فروش | O7: ارزش دفتری | Q7: سود و زیان ناشی از تغییر قیمت
A8: داروسازی‌ اکسیر | C8: 1666007 | E8: 41691907475 | G8: 45477572349 | I8: -3785664873 | K8: 1666007 | M8: 41691907475 | O8: 32805719273 | Q8: 8886188202
A9: فولاد مبارکه اصفهان | C9: 40763446 | E9: 131861603273 | G9: 106525759281 | I9: 25335843992 | K9: 40763446 | M9: 131861603273 | O9: 123037820976 | Q9: 8823782297
A10: شرکت صنایع غذایی مینو شرق | C10: 9290364 | E10: 80662308004 | G10: 73656210395 | I10: 7006097609 | K10: 9290364 | M10: 80662308004 | O10: 33227668226 | Q10: 47434639778
A11: پاکدیس | C11: 2752617 | E11: 31820102502 | G11: 34332934631 | I11: -2512832128 | K11: 2752617 | M11: 31820102502 | O11: 28763438828 | Q11: 3056663674
A12: سنگ آهن گهرزمین | C12: 7327921 | E12: 53225741569 | G12: 49081114152 | I12: 4144627417 | K12: 7327921 | M12: 53225741569 | O12: 39216845072 | Q12: 14008896497
A13: تولید انرژی برق شمس پاسارگاد | C13: 3450000 | E13: 39710645400 | G13: 40274704919 | I13: -564059519 | K13: 3450000 | M13: 39710645400 | O13: 40274704919 | Q13: -564059519
A14: داروسازی‌ فارابی‌ | C14: 4774839 | E14: 81634525190 | G14: 109341984135 | I14: -27707458944 | K14: 4774839 | M14: 81634525190 | O14: 34776402490 | Q14: 46858122700
A15: معدنی‌ املاح‌ ایران‌ | C15: 1473000 | E15: 56125966464 | G15: 50294127761 | I15: 5831838702 | K15: 1473000 | M15: 56125966464 | O15: 33758040645 | Q15: 22367925819
A16: سرمایه گذاری تامین اجتماعی | C16: 18456022 | E16: 64829283602 | G16: 57538870347 | I16: 7290413255 | K16: 18456022 | M16: 64829283602 | O16: 54156940460 | Q16: 10672343142
A17: رهیاب پیام گستران | C17: 585000 | E17: 4050575135 | G17: 4050575135 | I17: 0 | K17: 585000 | M17: 4050575135 | O17: 4475351625 | Q17: -424776489
A18: صنایع دامپروری و لبنی رضوی | C18: 3910000 | E18: 44151847466 | G18: 37635245184 | I18: 6516602281 | K18: 3910000 | M18: 44151847466 | O18: 37635245184 | Q18: 6516602281
A19: بانک‌اقتصادنوین‌ | C19: 27109793 | E19: 99261864567 | G19: 95373946550 | I19: 3887918017 | K19: 27109793 | M19: 99261864567 | O19: 71750461427 | Q19: 27511403140
... A42: پتروشیمی پردیس | C42: 8000335 | E42: 106852107844 | G42: 84068634626 | I42: 22783473218 | K42: 8000335 | M42: 106852107844 | O42: 80541582999 | Q42: 26310524845
A43: کولان سل | C43: 219000 | E43: 6534425399 | G43: =5975946075-5494 -> 5975940581 | I43: =E43-G43 -> 558484818 | K43: 219000 | M43: 6534425399 | O43: =5291854763-5478 -> 5291849285 | Q43: =M43-O43 -> 1242576114
A44: جمع | E44: 2502613996663 | G44: =SUM(G8:G43) -> 2263487887015 | I44: =SUM(I8:I43) -> 239126109645 | M44: 2502613996663 | O44: =SUM(O8:O43) -> 1613861317302 | Q44: =SUM(Q8:R43) -> 888752679360
